BEGIN:VCALENDAR
VERSION:2.0
PRODID:-//Roadmap to the 2030 Census - ECPv6.15.18//NONSGML v1.0//EN
CALSCALE:GREGORIAN
METHOD:PUBLISH
X-ORIGINAL-URL:https://censusroadmap.org/es
X-WR-CALDESC:Eventos para Roadmap to the 2030 Census
REFRESH-INTERVAL;VALUE=DURATION:PT1H
X-Robots-Tag:noindex
X-PUBLISHED-TTL:PT1H
BEGIN:VTIMEZONE
TZID:America/New_York
BEGIN:DAYLIGHT
TZOFFSETFROM:-0500
TZOFFSETTO:-0400
TZNAME:EDT
DTSTART:20230312T070000
END:DAYLIGHT
BEGIN:STANDARD
TZOFFSETFROM:-0400
TZOFFSETTO:-0500
TZNAME:EST
DTSTART:20231105T060000
END:STANDARD
BEGIN:DAYLIGHT
TZOFFSETFROM:-0500
TZOFFSETTO:-0400
TZNAME:EDT
DTSTART:20240310T070000
END:DAYLIGHT
BEGIN:STANDARD
TZOFFSETFROM:-0400
TZOFFSETTO:-0500
TZNAME:EST
DTSTART:20241103T060000
END:STANDARD
BEGIN:DAYLIGHT
TZOFFSETFROM:-0500
TZOFFSETTO:-0400
TZNAME:EDT
DTSTART:20250309T070000
END:DAYLIGHT
BEGIN:STANDARD
TZOFFSETFROM:-0400
TZOFFSETTO:-0500
TZNAME:EST
DTSTART:20251102T060000
END:STANDARD
END:VTIMEZONE
BEGIN:VEVENT
DTSTART;TZID=America/New_York:20240402T120000
DTEND;TZID=America/New_York:20240402T133000
DTSTAMP:20260423T022032
CREATED:20240129T171757Z
LAST-MODIFIED:20240402T135032Z
UID:10000008-1712059200-1712064600@censusroadmap.org
SUMMARY:Roadmap to 2030 Convening
DESCRIPTION:This will be an interactive session highlighting how national and state advocates are preparing for the 2030 Census and identifying opportunities to educate stakeholders about the census and related ACS. We will analyze the Roadmap to 2030 and address the actions national and state organizations can take to elevate the importance of the census and ACS to uplift our communities and strengthen our democracy. \nClick Here to RSVP\n  \nSocial Media Toolkit\n  \nSpeaker Bios\n  \n 
URL:https://censusroadmap.org/es/event/roadmap-to-2030-convening/
LOCATION:Zoom
END:VEVENT
BEGIN:VEVENT
DTSTART;TZID=America/New_York:20240402T133000
DTEND;TZID=America/New_York:20240402T151500
DTSTAMP:20260423T022032
CREATED:20240313T164449Z
LAST-MODIFIED:20240401T194752Z
UID:10000009-1712064600-1712070900@censusroadmap.org
SUMMARY:April 2024 Census Collaborative Convening
DESCRIPTION:This convening is an opportunity for national\, state and community-based census stakeholders and funders to hear about the most recent updates from the Census Collaborative – including on Local Update of Census Addresses (LUCA)\, mapping\, communications\, and digital organizing – as well as how state leaders are integrating census\, redistricting\, and voting efforts. \nOrganized by: Census Counts\, Census Equity Initiative\, Funders Committee for Civic Participation \nClick Here to RSVP\n  \n2024 Convening Guide\n  \n 
URL:https://censusroadmap.org/es/event/april-2024-census-collaborative-convening/
LOCATION:Zoom
END:VEVENT
END:VCALENDAR