BEGIN:VCALENDAR
VERSION:2.0
PRODID:-//Roadmap to the 2030 Census - ECPv6.15.18//NONSGML v1.0//EN
CALSCALE:GREGORIAN
METHOD:PUBLISH
X-ORIGINAL-URL:https://censusroadmap.org
X-WR-CALDESC:Events for Roadmap to the 2030 Census
REFRESH-INTERVAL;VALUE=DURATION:PT1H
X-Robots-Tag:noindex
X-PUBLISHED-TTL:PT1H
BEGIN:VTIMEZONE
TZID:America/New_York
BEGIN:DAYLIGHT
TZOFFSETFROM:-0500
TZOFFSETTO:-0400
TZNAME:EDT
DTSTART:20230312T070000
END:DAYLIGHT
BEGIN:STANDARD
TZOFFSETFROM:-0400
TZOFFSETTO:-0500
TZNAME:EST
DTSTART:20231105T060000
END:STANDARD
BEGIN:DAYLIGHT
TZOFFSETFROM:-0500
TZOFFSETTO:-0400
TZNAME:EDT
DTSTART:20240310T070000
END:DAYLIGHT
BEGIN:STANDARD
TZOFFSETFROM:-0400
TZOFFSETTO:-0500
TZNAME:EST
DTSTART:20241103T060000
END:STANDARD
BEGIN:DAYLIGHT
TZOFFSETFROM:-0500
TZOFFSETTO:-0400
TZNAME:EDT
DTSTART:20250309T070000
END:DAYLIGHT
BEGIN:STANDARD
TZOFFSETFROM:-0400
TZOFFSETTO:-0500
TZNAME:EST
DTSTART:20251102T060000
END:STANDARD
END:VTIMEZONE
BEGIN:VEVENT
DTSTART;TZID=America/New_York:20240828T140000
DTEND;TZID=America/New_York:20240828T150000
DTSTAMP:20260420T003753
CREATED:20240815T191300Z
LAST-MODIFIED:20240815T191610Z
UID:10000024-1724853600-1724857200@censusroadmap.org
SUMMARY:Introduction to the American Community Survey
DESCRIPTION:Discover the detailed social\, economic\, housing\, and demographic statistics that the American Community Survey (ACS) provides for every community every year. You will learn about basics of the yearly estimates and datasets produced from the ACS\, resources available on our website\, and how to access ACS data products through a variety of tools. \nClick Here to RSVP
URL:https://censusroadmap.org/event/introduction-to-the-american-community-survey/
LOCATION:WebEx
CATEGORIES:ACS Awareness Month
ATTACH;FMTTYPE=image/jpeg:https://censusroadmap.org/wp-content/uploads/2024/07/R.jpeg
ORGANIZER;CN="U.S. Census Bureau":MAILTO:https://census.gov
END:VEVENT
END:VCALENDAR