BEGIN:VCALENDAR
VERSION:2.0
PRODID:-//Roadmap to the 2030 Census - ECPv6.15.18//NONSGML v1.0//EN
CALSCALE:GREGORIAN
METHOD:PUBLISH
X-WR-CALNAME:Roadmap to the 2030 Census
X-ORIGINAL-URL:https://censusroadmap.org
X-WR-CALDESC:Events for Roadmap to the 2030 Census
REFRESH-INTERVAL;VALUE=DURATION:PT1H
X-Robots-Tag:noindex
X-PUBLISHED-TTL:PT1H
BEGIN:VTIMEZONE
TZID:America/New_York
BEGIN:DAYLIGHT
TZOFFSETFROM:-0500
TZOFFSETTO:-0400
TZNAME:EDT
DTSTART:20230312T070000
END:DAYLIGHT
BEGIN:STANDARD
TZOFFSETFROM:-0400
TZOFFSETTO:-0500
TZNAME:EST
DTSTART:20231105T060000
END:STANDARD
BEGIN:DAYLIGHT
TZOFFSETFROM:-0500
TZOFFSETTO:-0400
TZNAME:EDT
DTSTART:20240310T070000
END:DAYLIGHT
BEGIN:STANDARD
TZOFFSETFROM:-0400
TZOFFSETTO:-0500
TZNAME:EST
DTSTART:20241103T060000
END:STANDARD
BEGIN:DAYLIGHT
TZOFFSETFROM:-0500
TZOFFSETTO:-0400
TZNAME:EDT
DTSTART:20250309T070000
END:DAYLIGHT
BEGIN:STANDARD
TZOFFSETFROM:-0400
TZOFFSETTO:-0500
TZNAME:EST
DTSTART:20251102T060000
END:STANDARD
BEGIN:DAYLIGHT
TZOFFSETFROM:-0500
TZOFFSETTO:-0400
TZNAME:EDT
DTSTART:20260308T070000
END:DAYLIGHT
BEGIN:STANDARD
TZOFFSETFROM:-0400
TZOFFSETTO:-0500
TZNAME:EST
DTSTART:20261101T060000
END:STANDARD
END:VTIMEZONE
BEGIN:VEVENT
DTSTART;TZID=America/New_York:20251028T120000
DTEND;TZID=America/New_York:20251028T130000
DTSTAMP:20260419T200051
CREATED:20251016T151654Z
LAST-MODIFIED:20251016T151733Z
UID:10000044-1761652800-1761656400@censusroadmap.org
SUMMARY:S-CAN Quarterly Meeting
DESCRIPTION:Join us for the upcoming S-CAN Quarterly Meeting\, where we’ll review key updates on the census timeline\, the 2026 Census Test\, and the Local Update of Census Addresses (LUCA). Together\, we’ll discuss how community-based organizations can start preparing now – through LUCA engagement\, grassroots advocacy\, and relationship-building. While we are seeing unprecedented challenges\, staying focused on the path to the 2030 Census is critical to ensure that all communities are fully counted and fairly represented. \nClick Here to Register
URL:https://censusroadmap.org/event/s-can-quarterly-meeting/
LOCATION:Zoom
CATEGORIES:Webinar
ATTACH;FMTTYPE=image/png:https://censusroadmap.org/wp-content/uploads/2025/10/dc6ef8f2-8257-4957-ad89-4ba6f9427f37.png
END:VEVENT
BEGIN:VEVENT
DTSTART;TZID=America/New_York:20250130T130000
DTEND;TZID=America/New_York:20250130T141500
DTSTAMP:20260419T200051
CREATED:20250118T022506Z
LAST-MODIFIED:20250118T022506Z
UID:10000037-1738242000-1738246500@censusroadmap.org
SUMMARY:States Count Action Network Roundtable Discussion
DESCRIPTION:Join the States Count Action Network for a discussion on the potential impact of the incoming administration on the decennial census and how to protect the census at the state and national level. \nAs we gear up for 2025\, monitoring administration actions and maintaining active civic engagement will be essential in shaping an accurate and inclusive 2030 Census. This roundtable discussion will serve as an opportunity to ask questions\, strategize and share resources as we prepare for the 2030 Census. \nClick Here to RSVP
URL:https://censusroadmap.org/event/states-count-action-network-roundtable-discussion/
LOCATION:Zoom
ATTACH;FMTTYPE=image/png:https://censusroadmap.org/wp-content/uploads/2025/01/72535b34-7d52-4a89-9873-78d67f7613f6.png
END:VEVENT
BEGIN:VEVENT
DTSTART;TZID=America/New_York:20240909T140000
DTEND;TZID=America/New_York:20240909T150000
DTSTAMP:20260419T200051
CREATED:20240905T174702Z
LAST-MODIFIED:20240905T174702Z
UID:10000026-1725890400-1725894000@censusroadmap.org
SUMMARY:The Rise of Mis/Disinfo: Lessons for the 2030 Census
DESCRIPTION:This webinar will provide a foundational understanding of how misinformation and disinformation emerge during elections and address ways of combating false narratives\, which are lessons that can be applied during the lead up to the 2030 Census. Speakers will discuss how to leverage learnings from digital election outreach to inform 2030 Census planning\, as well as how to “inoculate” communities that are often the target of bad actors\, such as communities of color and/or low-income communities. \nSpeakers\n\nKelsey Suter\, Director | Center on Digital Influence at Drive Agency\nRoberta Braga\, Founder and Executive Director | Digital Democracy Institute of the Americas (DDIA)\nJosué Romualdo\, National Manager for Information Integrity | NALEO Educational Fund\n\nClick Here to RSVP
URL:https://censusroadmap.org/event/the-rise-of-mis-disinfo-lessons-for-the-2030-census/
LOCATION:Zoom
ATTACH;FMTTYPE=image/png:https://censusroadmap.org/wp-content/uploads/2024/09/7f9ff2f8-56df-4348-9164-912d297c8dde.png
END:VEVENT
END:VCALENDAR