BEGIN:VCALENDAR
VERSION:2.0
PRODID:-//Roadmap to the 2030 Census - ECPv6.15.18//NONSGML v1.0//EN
CALSCALE:GREGORIAN
METHOD:PUBLISH
X-WR-CALNAME:Roadmap to the 2030 Census
X-ORIGINAL-URL:https://censusroadmap.org
X-WR-CALDESC:Events for Roadmap to the 2030 Census
REFRESH-INTERVAL;VALUE=DURATION:PT1H
X-Robots-Tag:noindex
X-PUBLISHED-TTL:PT1H
BEGIN:VTIMEZONE
TZID:America/New_York
BEGIN:DAYLIGHT
TZOFFSETFROM:-0500
TZOFFSETTO:-0400
TZNAME:EDT
DTSTART:20230312T070000
END:DAYLIGHT
BEGIN:STANDARD
TZOFFSETFROM:-0400
TZOFFSETTO:-0500
TZNAME:EST
DTSTART:20231105T060000
END:STANDARD
BEGIN:DAYLIGHT
TZOFFSETFROM:-0500
TZOFFSETTO:-0400
TZNAME:EDT
DTSTART:20240310T070000
END:DAYLIGHT
BEGIN:STANDARD
TZOFFSETFROM:-0400
TZOFFSETTO:-0500
TZNAME:EST
DTSTART:20241103T060000
END:STANDARD
BEGIN:DAYLIGHT
TZOFFSETFROM:-0500
TZOFFSETTO:-0400
TZNAME:EDT
DTSTART:20250309T070000
END:DAYLIGHT
BEGIN:STANDARD
TZOFFSETFROM:-0400
TZOFFSETTO:-0500
TZNAME:EST
DTSTART:20251102T060000
END:STANDARD
END:VTIMEZONE
BEGIN:VEVENT
DTSTART;TZID=America/New_York:20241112T143000
DTEND;TZID=America/New_York:20241112T160000
DTSTAMP:20260421T224934
CREATED:20241104T182251Z
LAST-MODIFIED:20241104T182251Z
UID:10000029-1731421800-1731427200@censusroadmap.org
SUMMARY:Race & Ethnicity and SDP15 Updates - Late Session
DESCRIPTION:Due to high demand for information and updates on the OMB’s recently updated race and ethnicity standards\, the Data Users Branch (DUB) of the U.S. Census Bureau will be hosting a webinar focusing on Race & Ethnicity and the SPD 15. The information provided in each session will be identical. \nHow to Join via Microsoft Teams:\nGo to this link to enter the details below >> \nMeeting ID: 272 967 956 992 \nPasscode: R47yu6 \nDial in by phone: +1 347-973-4395\,\,611177420#  \nPhone conference ID: 611 177 420#
URL:https://censusroadmap.org/event/race-ethnicity-and-sdp15-updates-late-session/
LOCATION:Microsoft Teams
ATTACH;FMTTYPE=image/png:https://censusroadmap.org/wp-content/uploads/2024/11/TLC_D15-fwd_color-300x110-1.png
ORGANIZER;CN="U.S. Census Bureau":MAILTO:https://census.gov
END:VEVENT
BEGIN:VEVENT
DTSTART;TZID=America/New_York:20241112T100000
DTEND;TZID=America/New_York:20241112T113000
DTSTAMP:20260421T224934
CREATED:20241104T181841Z
LAST-MODIFIED:20241104T182303Z
UID:10000028-1731405600-1731411000@censusroadmap.org
SUMMARY:Race & Ethnicity and SDP15 Updates - Early Session
DESCRIPTION:Due to high demand for information and updates on the OMB’s recently updated race and ethnicity standards\, the Data Users Branch (DUB) of the U.S. Census Bureau will be hosting a webinar focusing on Race & Ethnicity and the SPD 15. The information provided in each session will be identical. \nHow to Join via Microsoft Teams:\nGo to this link to enter the details below >> \nMeeting ID: 244 867 173 740 \nPasscode: iFSwBx \nDial in by phone: +1 347-973-4395\,\,716273489# \nPhone conference ID: 716 273 489#
URL:https://censusroadmap.org/event/race-ethnicity-and-sdp15-updates-early-session/
LOCATION:Microsoft Teams
ATTACH;FMTTYPE=image/png:https://censusroadmap.org/wp-content/uploads/2024/11/TLC_D15-fwd_color-300x110-1.png
ORGANIZER;CN="U.S. Census Bureau":MAILTO:https://census.gov
END:VEVENT
BEGIN:VEVENT
DTSTART;TZID=America/New_York:20240314T140000
DTEND;TZID=America/New_York:20240314T150000
DTSTAMP:20260421T224934
CREATED:20240129T171658Z
LAST-MODIFIED:20240130T155354Z
UID:10000007-1710424800-1710428400@censusroadmap.org
SUMMARY:Stakeholder Convening: State and Local Government Stakeholders
DESCRIPTION:The U.S. Census Bureau\, as part of the 2030 Census Enhancing External Engagement research project\, is holding a series of six Virtual Stakeholder Convening Sessions to collect best practices\, discuss needs of engagement\, and connect partners with other partners who might want to independently share ideas directly. \nFollow this link to register: https://events.gcc.teams.microsoft.com/event/14416012-06db-4199-b688-66a632174c64@3aa716f1-e559-41ce-a530-47d18313c603
URL:https://censusroadmap.org/event/stakeholder-convening-state-and-local-government-stakeholders/
LOCATION:Microsoft Teams
CATEGORIES:USCB Stakeholder Convenings
ORGANIZER;CN="U.S. Census Bureau":MAILTO:https://census.gov
END:VEVENT
BEGIN:VEVENT
DTSTART;TZID=America/New_York:20240228T140000
DTEND;TZID=America/New_York:20240228T150000
DTSTAMP:20260421T224934
CREATED:20240129T171220Z
LAST-MODIFIED:20240130T155217Z
UID:10000005-1709128800-1709132400@censusroadmap.org
SUMMARY:Stakeholder Convening: Disability Rights and Low-Literacy Stakeholders
DESCRIPTION:The U.S. Census Bureau\, as part of the 2030 Census Enhancing External Engagement research project\, is holding a series of six Virtual Stakeholder Convening Sessions to collect best practices\, discuss needs of engagement\, and connect partners with other partners who might want to independently share ideas directly. \nFollow this link to register: https://events.gcc.teams.microsoft.com/event/e7cc84a4-3800-44bb-bad8-19b5608d7d29@3aa716f1-e559-41ce-a530-47d18313c603
URL:https://censusroadmap.org/event/stakeholder-convening-disability-rights-and-low-literacy-stakeholders/
LOCATION:Microsoft Teams
CATEGORIES:USCB Stakeholder Convenings
ORGANIZER;CN="U.S. Census Bureau":MAILTO:https://census.gov
END:VEVENT
BEGIN:VEVENT
DTSTART;TZID=America/New_York:20240208T140000
DTEND;TZID=America/New_York:20240208T150000
DTSTAMP:20260421T224934
CREATED:20240129T171118Z
LAST-MODIFIED:20240130T155021Z
UID:10000004-1707400800-1707404400@censusroadmap.org
SUMMARY:Stakeholder Convening: Immigrant Advocacy Stakeholders
DESCRIPTION:The U.S. Census Bureau\, as part of the 2030 Census Enhancing External Engagement research project\, is holding a series of six Virtual Stakeholder Convening Sessions to collect best practices\, discuss needs of engagement\, and connect partners with other partners who might want to independently share ideas directly. \nFollow this link to register: https://events.gcc.teams.microsoft.com/event/d82d5d6d-04a1-47ad-b57e-d271904c94ee@3aa716f1-e559-41ce-a530-47d18313c603
URL:https://censusroadmap.org/event/stakeholder-convening-immigrant-advocacy-stakeholders/
LOCATION:Microsoft Teams
CATEGORIES:USCB Stakeholder Convenings
ORGANIZER;CN="U.S. Census Bureau":MAILTO:https://census.gov
END:VEVENT
BEGIN:VEVENT
DTSTART;TZID=America/New_York:20240125T140000
DTEND;TZID=America/New_York:20240125T150000
DTSTAMP:20260421T224934
CREATED:20240129T170638Z
LAST-MODIFIED:20240129T170638Z
UID:10000002-1706191200-1706194800@censusroadmap.org
SUMMARY:Stakeholder Convening: Rural and Migrant Stakeholders
DESCRIPTION:The U.S. Census Bureau\, as part of the 2030 Census Enhancing External Engagement research project\, is holding a series of six Virtual Stakeholder Convening Sessions to collect best practices\, discuss needs of engagement\, and connect partners with other partners who might want to independently share ideas directly.
URL:https://censusroadmap.org/event/stakeholder-convening-rural-and-migrant-stakeholders/
LOCATION:Microsoft Teams
ORGANIZER;CN="U.S. Census Bureau":MAILTO:https://census.gov
END:VEVENT
END:VCALENDAR